BEGIN:VCALENDAR
VERSION:2.0
PRODID:-//Alfisti.hr - Alfa Romeo portal - ECPv5.8.1//NONSGML v1.0//EN
CALSCALE:GREGORIAN
METHOD:PUBLISH
X-WR-CALNAME:Alfisti.hr - Alfa Romeo portal
X-ORIGINAL-URL:https://alfisti.hr/web
X-WR-CALDESC:Događaji za Alfisti.hr - Alfa Romeo portal
BEGIN:VTIMEZONE
TZID:Europe/Paris
BEGIN:DAYLIGHT
TZOFFSETFROM:+0100
TZOFFSETTO:+0200
TZNAME:CEST
DTSTART:20180325T010000
END:DAYLIGHT
BEGIN:STANDARD
TZOFFSETFROM:+0200
TZOFFSETTO:+0100
TZNAME:CET
DTSTART:20181028T010000
END:STANDARD
END:VTIMEZONE
BEGIN:VEVENT
DTSTART;TZID=Europe/Paris:20180224T110000
DTEND;TZID=Europe/Paris:20180225T153000
DTSTAMP:20260420T080104
CREATED:20180114T125239Z
LAST-MODIFIED:20180114T130822Z
UID:927-1519470000-1519572600@alfisti.hr
SUMMARY:Zimski susret alfista Bjelovar - Tour de Bjelovar 2
DESCRIPTION:❄ZIMSKI SUSRET ALFISTA BJELOVAR 24. I 25.2.❄ \nPošto gospodin Snijeg nije potvrdio dolazak na naš susret\, morali smo se snaći i bez njega pa smo vam pripremili dva dana lijepog druženja i zabave u našem kraju\, koji će vam\, nadamo se\, ostati u lijepom sjećanju. ? \n?Prvi dan: \nOd 11:00 do 13:00 okupljanje na nogometnom igralištu u Ždralovima (Daruvarska 41\, 43000 Bjelovar). \nU 13:00 polazak prema Daruvaru gdje ćemo posjetiti dvorac Janković te daruvarsku pivovaru “Staročeško” gdje ćemo moći i degustirati pivo. ? \n18:00 povratak u smještaj u Izletištu i vinotočju “Vinia” obitelji Šapić. \n19:30 večera popraćena zabavom uz tamburaše i harmoniku do cca 3 ujutro. \n?Drugi dan: \n11:00 buđenje i okupljanje (kako bi se stigli oporavit\, tko uspije ranije svaka čast ?) \n12:00 polazak na BP “Lepirac”\, vožnja vinskom cestom te stajanje na vidikovcu u Velikom Trojstvu\, fotografiranje nas i naših ljubavi (Alfi\, jel??). \n12:30 dolazak na odredište i početak igara – utrka na stazi\, gdje ćemo stvarno provjeriti koliko ste svladali umijeće vožnje i druženje. ? \n15:00 ispraćaj gostiju (kući ili u birtiju vama na izbor?). \n*Rezervni plan za drugi dan u slučaju kiše je vožnja vinskom cestom te obilazak podruma vinarije “Šapić”\, “Coner” i “Čaćija.” \n?CJENIK:\n100 kn – noćenje\n100 kn – ZAMP\, večera (tradicionalna sarma) i otvoreni šank (bijelo i crno vino\, mineralna voda\, Coca-Cola)\n50 kn – posjet dvorcu i pivovari\n20 kn – kotizacija za stazu \nPrijave za večeru :\nhttps://alfisti.hr/forum/index.php?topic=92508.0 \nPrijave za noćenje :\nhttps://alfisti.hr/forum/index.php?topic=92507.0
URL:https://alfisti.hr/web/event/zimski-susret-alfista-bjelovar-tour-de-bjelovar-2/
LOCATION:Bjelovar\, Daruvarska 41\, 43000 Bjelovar\, Croatia (Local Name: Hrvatska)
END:VEVENT
END:VCALENDAR