BEGIN:VCALENDAR
VERSION:2.0
PRODID:-//Alfisti.hr - Alfa Romeo portal - ECPv5.8.1//NONSGML v1.0//EN
CALSCALE:GREGORIAN
METHOD:PUBLISH
X-WR-CALNAME:Alfisti.hr - Alfa Romeo portal
X-ORIGINAL-URL:https://alfisti.hr/web
X-WR-CALDESC:Događaji za Alfisti.hr - Alfa Romeo portal
BEGIN:VTIMEZONE
TZID:Europe/Paris
BEGIN:DAYLIGHT
TZOFFSETFROM:+0100
TZOFFSETTO:+0200
TZNAME:CEST
DTSTART:20180325T010000
END:DAYLIGHT
BEGIN:STANDARD
TZOFFSETFROM:+0200
TZOFFSETTO:+0100
TZNAME:CET
DTSTART:20181028T010000
END:STANDARD
END:VTIMEZONE
BEGIN:VEVENT
DTSTART;TZID=Europe/Paris:20180512T130000
DTEND;TZID=Europe/Paris:20180512T200000
DTSTAMP:20260421T000308
CREATED:20180420T203614Z
LAST-MODIFIED:20180420T203614Z
UID:1077-1526130000-1526155200@alfisti.hr
SUMMARY:Regionalni Zadarski susret Alfa Romeo Kluba Hrvatska 12.05.
DESCRIPTION:Dana 12.05.2018. održat će se regionalni Zadarski susret Alfa Romeo Kluba Hrvatska i svih zainteresiranih. \nProgram susreta:\n13.00 – okupljanje učesnika u caffe baru Red Point (autopraona na Bokanjcu)\n14.15 – formiranje kolone i polazak prema Zatonu (parkingu vojne baze Šepurine) \nPo dolasku u Šepurine NE ULAZIMO na pistu nego parkiramo na ulaznom parkingu prema uputama organizatora.\nKad smo svi parkirani\, kreće program druženja te prijave za vožnju. Vozit će se kronometar. Staza će biti postavljena da bude pogodna za sve vrste vozila\, dakle SVI SE MOGU PRIJAVITI ZA VOŽNJU. \nNakon prijava\, predviđeno je održavanje utrke. Oni koji su se prijavili za vožnju uživat će na stazi\, dok se ostali mogu zabaviti uz muziku\, piće i besplatan roštilj \,a past će i neka zajednička fotografija svih učesnika. \nPo završetku kronometra\, prelazimo na nešto neozbiljniji dio susreta gdje vas čeka igra iznenađenja. Ostavit ćemo je tajnom do samog dana susreta\,kako se nebi mogli pripremati za nju i steći prednost na taj način 🙂 \nNa kraju ćemo podijeliti nagrade i pehar za najuspješnije. \nDOBRO DOŠLI!
URL:https://alfisti.hr/web/event/regionalni-zadarski-susret-alfa-romeo-kluba-hrvatska-12-05/
END:VEVENT
END:VCALENDAR