BEGIN:VCALENDAR
VERSION:2.0
PRODID:-//Alfisti.hr - Alfa Romeo portal - ECPv5.8.1//NONSGML v1.0//EN
CALSCALE:GREGORIAN
METHOD:PUBLISH
X-WR-CALNAME:Alfisti.hr - Alfa Romeo portal
X-ORIGINAL-URL:https://alfisti.hr/web
X-WR-CALDESC:Događaji za Alfisti.hr - Alfa Romeo portal
BEGIN:VTIMEZONE
TZID:Europe/Paris
BEGIN:DAYLIGHT
TZOFFSETFROM:+0100
TZOFFSETTO:+0200
TZNAME:CEST
DTSTART:20180325T010000
END:DAYLIGHT
BEGIN:STANDARD
TZOFFSETFROM:+0200
TZOFFSETTO:+0100
TZNAME:CET
DTSTART:20181028T010000
END:STANDARD
END:VTIMEZONE
BEGIN:VEVENT
DTSTART;TZID=Europe/Paris:20180407T100000
DTEND;TZID=Europe/Paris:20180407T233000
DTSTAMP:20260420T145520
CREATED:20180218T213322Z
LAST-MODIFIED:20180218T213728Z
UID:1001-1523095200-1523143800@alfisti.hr
SUMMARY:Regionalni susret Alfista Varaždin-Čakovec 07.travanj 2018
DESCRIPTION:Okvirni plan bi bio ovakav\,još podložan sitnim promjenama.. \n10/11h : okupljanje u Varaždinu\n11/12h : vožnja rutom po bregima Međimurja\n12h : posjet oldtimer muzeju Šardi 20kn / osoba\n13h : dolazak u Accredo centar Zasadbreg – piće dobrodošlice\n13/15h : vrijeme predviđeno za Alfa olimpijadu\n15/16h : ručak\n16h : nastavak aktivnosti po želji\n       :dodjela diploma i proglašenje pobjednika\n22h : previđeni odlazak iz Accredo centra \nAlfa olimpijada:\nNakon uvodnog brifinga uz piće dobrodošlice organiziramo izvlačenje u kojem se grupa dijeli u timove. Zatim slijedi prezentacija svih aktivnosti koje će biti organizirane kao timska olimpijada koja se sastoji od nekoliko sportsko adrenalinskih aktivnosti. Nakon prvog dijela timske olimpijade slijedi ručak i vrijeme predviđeno za opuštanje i odmor. Nakon toga slijedi nastavak aktivnosti po želji. Za kraj druženja predviđeno je svečano proglašenje rezultata uz dodjelu prigodnih diploma. \nCijena događanja u Accredo Centru uključuje:\n1. Piće dobrodošlice\n2. Stijena za penjanje\n3. Ljudski stolni nogomet\n4. Streličarstvo\n5. Airsoft duel\n6. Utrka formulama na pedale\n7. Bacanje sjekira\n8. GRATIS aktivnosti (stolni tenis\, stolni nogomet\, pikado\, badminton….)\n9. Korištenje vanjskog i unutarnjeg prostora centra (garderoba/tuš/prostor za druženje)\n10. Ručak – bogati mesni meni\n11. Piće – uključeno 1 l po osobi\n12. Fotografiranje događaja\n13. Stručno vođenje i potreban broj instruktora\n14. Diplome\n200kn / osoba \nMogućnost doplate uz ponuđeni program:\nQuad vožnja = 100\,00 kn / osoba\nPaintball = 100\,00 kn / osoba\nAdrenalinski Park+Zip-line = 50\,00 kn / osoba \nhttps://alfisti.hr/forum/index.php?topic=92599.msg1849554#msg1849554
URL:https://alfisti.hr/web/event/regionalni-susret-alfista-varazdin-cakovec-07-travanj-2018/
END:VEVENT
END:VCALENDAR