BEGIN:VCALENDAR
VERSION:2.0
PRODID:-//Alfisti.hr - Alfa Romeo portal - ECPv5.8.1//NONSGML v1.0//EN
CALSCALE:GREGORIAN
METHOD:PUBLISH
X-WR-CALNAME:Alfisti.hr - Alfa Romeo portal
X-ORIGINAL-URL:https://alfisti.hr/web
X-WR-CALDESC:Događaji za Alfisti.hr - Alfa Romeo portal
BEGIN:VTIMEZONE
TZID:Europe/Paris
BEGIN:DAYLIGHT
TZOFFSETFROM:+0100
TZOFFSETTO:+0200
TZNAME:CEST
DTSTART:20250330T010000
END:DAYLIGHT
BEGIN:STANDARD
TZOFFSETFROM:+0200
TZOFFSETTO:+0100
TZNAME:CET
DTSTART:20251026T010000
END:STANDARD
END:VTIMEZONE
BEGIN:VEVENT
DTSTART;TZID=Europe/Paris:20251025T100000
DTEND;TZID=Europe/Paris:20251026T143000
DTSTAMP:20260420T094400
CREATED:20251008T210206Z
LAST-MODIFIED:20251008T210913Z
UID:1782-1761386400-1761489000@alfisti.hr
SUMMARY:3.Susret Alfisti Istre i Regionalni susret Alfa Romeo kluba Hrvatska
DESCRIPTION:
URL:https://alfisti.hr/web/event/3-susret-alfisti-istre-i-regionalni-susret-alfa-romeo-kluba-hrvatska/
LOCATION:Pula\, Pula\, Istra\, Croatia (Local Name: Hrvatska)
END:VEVENT
END:VCALENDAR